BEGIN:VCALENDAR
VERSION:2.0
PRODID:icalendar-ruby
CALSCALE:GREGORIAN
METHOD:PUBLISH
BEGIN:VEVENT
DTSTAMP:20260420T015438Z
UID:6-269394@langleypresbyterian.ca
DTSTART:20261014T173000Z
DTEND:20261014T183000Z
CLASS:PUBLIC
CREATED:20260419T172112
DESCRIPTION:In the midst of our busy lives\, prayer is a powerful way to re
 connect with God\, find peace\, and lift one another in faith. Our prayer 
 ministry offers a quiet\, welcoming space for anyone who wishes to pray\, 
 reflect\, or simply pause in God’s presence. Whether you are seeking gui
 dance\, giving thanks\, finding comfort\, or nurturing your spiritual life
 \, the sanctuary is open Wednesdays from 10:30–11:30 for personal\, indi
 vidual prayer. Come as you are—everyone is warmly invited to spend this 
 time with God.\n \n 
LAST-MODIFIED:20260419T172112
LOCATION:Sanctuary
SUMMARY:Wednesday Prayer Time
URL;VALUE=URI:https://langleypresbyterian.ca/events/wednesday-prayer-time/2
 026-10-14
ATTACH;FILENAME=Fl5S7.jpg;FMTTYPE=image/jpeg:https://dq5pwpg1q8ru0.cloudfro
 nt.net/2025/03/17/05/06/53/178f2b43-acdf-4f24-a6f1-0d5458d7bbfe/Fl5S7.jpg
END:VEVENT
END:VCALENDAR
